BEGIN:VCALENDAR
VERSION:2.0
PRODID:-//360 Sports Centre - ECPv6.15.18//NONSGML v1.0//EN
CALSCALE:GREGORIAN
METHOD:PUBLISH
X-ORIGINAL-URL:https://360sportscentre.com
X-WR-CALDESC:Events for 360 Sports Centre
REFRESH-INTERVAL;VALUE=DURATION:PT1H
X-Robots-Tag:noindex
X-PUBLISHED-TTL:PT1H
BEGIN:VTIMEZONE
TZID:UTC
BEGIN:STANDARD
TZOFFSETFROM:+0000
TZOFFSETTO:+0000
TZNAME:UTC
DTSTART:20250101T000000
END:STANDARD
END:VTIMEZONE
BEGIN:VEVENT
DTSTART;TZID=UTC:20260601T083000
DTEND;TZID=UTC:20260605T180000
DTSTAMP:20260420T081427
CREATED:20260217T115223Z
LAST-MODIFIED:20260224T061111Z
UID:10000129-1780302600-1780682400@360sportscentre.com
SUMMARY:Camp Kingdom Creative Studio Week
DESCRIPTION:Camp Kingdom is a high energy\, confidence building summer camp designed for kids who love to move\, perform\, and tumble. Each day includes coach led tumbling progressions\, cheer fundamentals\, dance instruction\, jumps\, games\, and structured skill stations in a positive\, encouraging environment.\nCampers are grouped by age and ability and guided by experienced coaches who focus on skill development\, teamwork\, and building confidence both on and off the mat. Camp Kingdom blends athletic training with creativity and fun so kids leave stronger\, more confident\, and excited to come back each day.\nParents love Camp Kingdom for its structure\, safety\, and intentional coaching. Kids love it for the themes\, new skills\, friendships\, and feeling proud of what they accomplish.\nA hands-on\, imagination-driven week featuring pottery\, canvas art\, slime creation\, planting projects\, and collaborative art\, all woven into a fun\, movement-filled camp day. Campers create meaningful take-home projects while expressing themselves and working as a team. \nChoose Your Camp Option: \n\nHalf Day: 8:30 AM – 11:30 AM\nFull Day: 8:30 AM – 3:30 PM\nExtended Day: 8:30 AM – 6:00 PM\n\nCost: $35 non-refundable deposit due at Registration\, Remaining balance due 2 weeks prior to start date. \n\nHalf Day: $150\nFull Day: $265\nExtended Day: $350\n\nRegister Below!\n\n\n\n                \n                        Parent/Guardian Name(Required)\n                            \n                            \n                                                    \n                                                    First\n                                                \n                            \n                            \n                                                    \n                                                    Last\n                                                \n                            \n                        Email(Required)\n                            \n                        Phone(Required)Athlete's Name(Required)\n                            \n                            \n                                                    \n                                                    First\n                                                \n                            \n                            \n                                                    \n                                                    Last\n                                                \n                            \n                        Athlete's Date Of Birth(Required)\n                            \n                            MM slash DD slash YYYY\n                        \n                        Product NameSelect what Summer Camp(s) you'd like to register for(Required)\n								\n								Camp Kingdom Creative Studio Week (6/1-6/5) +(35.00 Deposit)\n							\n								\n								Camp Kingdom Musical Theater Week (6/8-6/12) +(35.00 Deposit)\n							\n								\n								Camp Kingdom Mad Scientists Lab (6/15-6/19) +(35.00 Deposit)\n							\n								\n								Camp Kingdom Summer Splash Week (6/22-6/26) +(35.00 Deposit)\n							\n								\n								Camp Kingdom Mini Chefs Week (6/29-7/2) +(35.00 Deposit)\n							\n								\n								Camp Kingdom Christmas In July (7/7-7/10) +(35.00 Deposit)\n							\n								\n								Camp Kingdom Future Heroes Week (7/13-7/17) +(35.00 Deposit)\n							\n								\n								Camp Kingdom Oh Crickey: Reptile Explorers Week (7/20-7/24) +(35.00 Deposit)\n							\n								\n								Camp Kingdom Ultimate Games (7/27-7/31) +(35.00 Deposit)\n							\n								\n								Camp Kingdom Marine Biologist Week (8/3-8/7) +(35.00 Deposit)\n							Please select your camp time(Required)\n			\n					\n					Half Day (8:30 a.m. - 11:30 a.m.)\n			\n			\n					\n					Full Day (8:30 a.m. - 3:30 p.m.\n			\n			\n					\n					Extended Day (8:30 a.m. - 6:00 p.m.)\n			Total\n							\n						Credit Card(Required)\n					\n						Cardholder Name\n					\n					\n						Card Details\n					\n				\n          \n            \n            \n            \n            \n            \n            \n            \n            \n            \n            \n            \n            \n            \n        \n                        \n                        \n		                \n		                \n\n 
URL:https://360sportscentre.com/event/camp-kingdom-creative-studio-week/
CATEGORIES:Camp Kingdom
ATTACH;FMTTYPE=image/png:https://360sportscentre.com/wp-content/uploads/2026/02/CeUy6eWf-14.png
END:VEVENT
END:VCALENDAR