BEGIN:VCALENDAR
VERSION:2.0
PRODID:-//360 Sports Centre - ECPv6.15.18//NONSGML v1.0//EN
CALSCALE:GREGORIAN
METHOD:PUBLISH
X-ORIGINAL-URL:https://360sportscentre.com
X-WR-CALDESC:Events for 360 Sports Centre
REFRESH-INTERVAL;VALUE=DURATION:PT1H
X-Robots-Tag:noindex
X-PUBLISHED-TTL:PT1H
BEGIN:VTIMEZONE
TZID:UTC
BEGIN:STANDARD
TZOFFSETFROM:+0000
TZOFFSETTO:+0000
TZNAME:UTC
DTSTART:20250101T000000
END:STANDARD
END:VTIMEZONE
BEGIN:VEVENT
DTSTART;TZID=UTC:20260615T083000
DTEND;TZID=UTC:20260619T180000
DTSTAMP:20260423T043913
CREATED:20260217T120837Z
LAST-MODIFIED:20260224T055432Z
UID:10000092-1781512200-1781892000@360sportscentre.com
SUMMARY:Camp Adrenaline Mad Scientists Lab
DESCRIPTION:Camp Adrenaline is a high-energy\, action-packed summer camp designed for kids who love to climb\, jump\, run\, and conquer challenges. Each day includes coach-led parkour training\, obstacle courses\, ninja-style challenges\, NERF missions\, games\, and structured movement stations in a safe\, motivating environment.\nCampers are grouped by age and ability and guided by experienced coaches who focus on strength\, coordination\, confidence\, and teamwork through hands-on movement and problem-solving. Camp Adrenaline blends athletic training with exciting challenges so kids stay engaged\, active\, and eager to come back each day.\nParents love Camp Adrenaline for its structure\, safety\, and positive coaching. Kids love it for the action\, competition\, teamwork\, and feeling strong\, capable\, and accomplished.\nA build-it\, test-it\, and try-it week packed with hands-on experiments\, problem-solving challenges\, and movement-based science activities. Campers create\, experiment\, and compete in fun ways that keep brains and bodies moving. \nChoose Your Camp Option: \n\nHalf Day: 8:30 AM – 11:30 AM\nFull Day: 8:30 AM – 3:30 PM\nExtended Day: 8:30 AM – 6:00 PM\n\nCost: $35 non-refundable deposit due at Registration\, Remaining balance due 2 weeks prior to start date. \n\nHalf Day: $150\nFull Day: $265\nExtended Day: $350\n\nRegister Below!\n\n\n\n                \n                        Parent/Guardian Name(Required)\n                            \n                            \n                                                    \n                                                    First\n                                                \n                            \n                            \n                                                    \n                                                    Last\n                                                \n                            \n                        Email(Required)\n                            \n                        Phone(Required)Athlete's Name(Required)\n                            \n                            \n                                                    \n                                                    First\n                                                \n                            \n                            \n                                                    \n                                                    Last\n                                                \n                            \n                        Athlete's Date Of Birth(Required)\n                            \n                            MM slash DD slash YYYY\n                        \n                        Product NameSelect what Summer Camp(s) you'd like to register for(Required)\n								\n								Camp Adrenaline Creative Studio Week (6/1-6/5) +(35.00 Deposit)\n							\n								\n								Camp Adrenaline Beat the Challenge (6/8-6/12) +(35.00 Deposit)\n							\n								\n								Camp Adrenaline Mad Scientists Lab (6/15-6/19) +(35.00 Deposit)\n							\n								\n								Camp Adrenaline Summer Splash Week (6/22-6/26) +(35.00 Deposit)\n							\n								\n								Camp Adrenaline Mini Chefs Week (6/29-7/2) +(35.00 Deposit)\n							\n								\n								Camp Adrenaline Christmas In July (7/7-7/10) +(35.00 Deposit)\n							\n								\n								Camp Adrenaline Future Heroes Week (7/13-7/17) +(35.00 Deposit)\n							\n								\n								Camp Adrenaline Oh Crickey: Reptile Explorers Week (7/20-7/24) +(35.00 Deposit)\n							\n								\n								Camp Adrenaline Ultimate Games (7/27-7/31) +(35.00 Deposit)\n							\n								\n								Camp Adrenaline Marine Biologist Week (8/3-8/7) +(35.00 Deposit)\n							Please select your camp time(Required)\n			\n					\n					Half Day (8:30 a.m. - 11:30 a.m.)\n			\n			\n					\n					Full Day (8:30 a.m. - 3:30 p.m.\n			\n			\n					\n					Extended Day (8:30 a.m. - 6:00 p.m.)\n			Total\n							\n						Credit Card(Required)\n					\n						Cardholder Name\n					\n					\n						Card Details\n					\n				\n          \n            \n            \n            \n            \n            \n            \n            \n            \n            \n            \n            \n            \n            \n        \n                        \n                        \n		                \n		                \n\n 
URL:https://360sportscentre.com/event/camp-adrenaline-mad-scientists-lab/
CATEGORIES:Camp Adrenaline
ATTACH;FMTTYPE=image/png:https://360sportscentre.com/wp-content/uploads/2026/02/qwX6t5xv2.png
END:VEVENT
END:VCALENDAR