BEGIN:VCALENDAR
VERSION:2.0
PRODID:-//360 Sports Centre - ECPv6.15.18//NONSGML v1.0//EN
CALSCALE:GREGORIAN
METHOD:PUBLISH
X-ORIGINAL-URL:https://360sportscentre.com
X-WR-CALDESC:Events for 360 Sports Centre
REFRESH-INTERVAL;VALUE=DURATION:PT1H
X-Robots-Tag:noindex
X-PUBLISHED-TTL:PT1H
BEGIN:VTIMEZONE
TZID:UTC
BEGIN:STANDARD
TZOFFSETFROM:+0000
TZOFFSETTO:+0000
TZNAME:UTC
DTSTART:20250101T000000
END:STANDARD
END:VTIMEZONE
BEGIN:VEVENT
DTSTART;TZID=UTC:20260629T083000
DTEND;TZID=UTC:20260702T180000
DTSTAMP:20260423T043530
CREATED:20260217T122459Z
LAST-MODIFIED:20260224T055103Z
UID:10000086-1782721800-1783015200@360sportscentre.com
SUMMARY:Camp Adrenaline Mini Chefs Week
DESCRIPTION:Camp Adrenaline is a high-energy\, action-packed summer camp designed for kids who love to climb\, jump\, run\, and conquer challenges. Each day includes coach-led parkour training\, obstacle courses\, ninja-style challenges\, NERF missions\, games\, and structured movement stations in a safe\, motivating environment.\nCampers are grouped by age and ability and guided by experienced coaches who focus on strength\, coordination\, confidence\, and teamwork through hands-on movement and problem-solving. Camp Adrenaline blends athletic training with exciting challenges so kids stay engaged\, active\, and eager to come back each day.\nParents love Camp Adrenaline for its structure\, safety\, and positive coaching. Kids love it for the action\, competition\, teamwork\, and feeling strong\, capable\, and accomplished.\nA hands-on cooking week focused on building\, mixing\, and creating simple\, allergy-friendly recipes. Campers learn basic kitchen skills while treating cooking like a fun challenge and creative mission. \nChoose Your Camp Option: \n\nHalf Day: 8:30 AM – 11:30 AM\nFull Day: 8:30 AM – 3:30 PM\nExtended Day: 8:30 AM – 6:00 PM\n\nCost: $35 non-refundable deposit due at Registration\, Remaining balance due 2 weeks prior to start date. \n\nHalf Day: $150\nFull Day: $265\nExtended Day: $350\n\nRegister Below!\n\n\n\n                \n                        Parent/Guardian Name(Required)\n                            \n                            \n                                                    \n                                                    First\n                                                \n                            \n                            \n                                                    \n                                                    Last\n                                                \n                            \n                        Email(Required)\n                            \n                        Phone(Required)Athlete's Name(Required)\n                            \n                            \n                                                    \n                                                    First\n                                                \n                            \n                            \n                                                    \n                                                    Last\n                                                \n                            \n                        Athlete's Date Of Birth(Required)\n                            \n                            MM slash DD slash YYYY\n                        \n                        Product NameSelect what Summer Camp(s) you'd like to register for(Required)\n								\n								Camp Adrenaline Creative Studio Week (6/1-6/5) +(35.00 Deposit)\n							\n								\n								Camp Adrenaline Beat the Challenge (6/8-6/12) +(35.00 Deposit)\n							\n								\n								Camp Adrenaline Mad Scientists Lab (6/15-6/19) +(35.00 Deposit)\n							\n								\n								Camp Adrenaline Summer Splash Week (6/22-6/26) +(35.00 Deposit)\n							\n								\n								Camp Adrenaline Mini Chefs Week (6/29-7/2) +(35.00 Deposit)\n							\n								\n								Camp Adrenaline Christmas In July (7/7-7/10) +(35.00 Deposit)\n							\n								\n								Camp Adrenaline Future Heroes Week (7/13-7/17) +(35.00 Deposit)\n							\n								\n								Camp Adrenaline Oh Crickey: Reptile Explorers Week (7/20-7/24) +(35.00 Deposit)\n							\n								\n								Camp Adrenaline Ultimate Games (7/27-7/31) +(35.00 Deposit)\n							\n								\n								Camp Adrenaline Marine Biologist Week (8/3-8/7) +(35.00 Deposit)\n							Please select your camp time(Required)\n			\n					\n					Half Day (8:30 a.m. - 11:30 a.m.)\n			\n			\n					\n					Full Day (8:30 a.m. - 3:30 p.m.\n			\n			\n					\n					Extended Day (8:30 a.m. - 6:00 p.m.)\n			Total\n							\n						Credit Card(Required)\n					\n						Cardholder Name\n					\n					\n						Card Details\n					\n				\n          \n            \n            \n            \n            \n            \n            \n            \n            \n            \n            \n            \n            \n            \n        \n                        \n                        \n		                \n		                \n\n 
URL:https://360sportscentre.com/event/camp-adrenaline-mini-chefs-week/
CATEGORIES:Camp Adrenaline
ATTACH;FMTTYPE=image/png:https://360sportscentre.com/wp-content/uploads/2026/02/1fBKpqF22.png
END:VEVENT
BEGIN:VEVENT
DTSTART;TZID=UTC:20260713T083000
DTEND;TZID=UTC:20260717T180000
DTSTAMP:20260423T043530
CREATED:20260217T124156Z
LAST-MODIFIED:20260224T054919Z
UID:10000080-1783931400-1784311200@360sportscentre.com
SUMMARY:Camp Adrenaline Future Heroes Week
DESCRIPTION:Camp Adrenaline is a high-energy\, action-packed summer camp designed for kids who love to climb\, jump\, run\, and conquer challenges. Each day includes coach-led parkour training\, obstacle courses\, ninja-style challenges\, NERF missions\, games\, and structured movement stations in a safe\, motivating environment.\nCampers are grouped by age and ability and guided by experienced coaches who focus on strength\, coordination\, confidence\, and teamwork through hands-on movement and problem-solving. Camp Adrenaline blends athletic training with exciting challenges so kids stay engaged\, active\, and eager to come back each day.\nParents love Camp Adrenaline for its structure\, safety\, and positive coaching. Kids love it for the action\, competition\, teamwork\, and feeling strong\, capable\, and accomplished.\nA mission-based week where campers explore real-life hero careers through physical challenges\, team missions\, and interactive games. Surprise visits from police officers\, fire trucks\, and community leaders bring the experience to life. \nChoose Your Camp Option: \n\nHalf Day: 8:30 AM – 11:30 AM\nFull Day: 8:30 AM – 3:30 PM\nExtended Day: 8:30 AM – 6:00 PM\n\nCost: $35 non-refundable deposit due at Registration\, Remaining balance due 2 weeks prior to start date. \n\nHalf Day: $150\nFull Day: $265\nExtended Day: $350\n\nRegister Below!\n\n\n                \n                        Parent/Guardian Name(Required)\n                            \n                            \n                                                    \n                                                    First\n                                                \n                            \n                            \n                                                    \n                                                    Last\n                                                \n                            \n                        Email(Required)\n                            \n                        Phone(Required)Athlete's Name(Required)\n                            \n                            \n                                                    \n                                                    First\n                                                \n                            \n                            \n                                                    \n                                                    Last\n                                                \n                            \n                        Athlete's Date Of Birth(Required)\n                            \n                            MM slash DD slash YYYY\n                        \n                        Product NameSelect what Summer Camp(s) you'd like to register for(Required)\n								\n								Camp Adrenaline Creative Studio Week (6/1-6/5) +(35.00 Deposit)\n							\n								\n								Camp Adrenaline Beat the Challenge (6/8-6/12) +(35.00 Deposit)\n							\n								\n								Camp Adrenaline Mad Scientists Lab (6/15-6/19) +(35.00 Deposit)\n							\n								\n								Camp Adrenaline Summer Splash Week (6/22-6/26) +(35.00 Deposit)\n							\n								\n								Camp Adrenaline Mini Chefs Week (6/29-7/2) +(35.00 Deposit)\n							\n								\n								Camp Adrenaline Christmas In July (7/7-7/10) +(35.00 Deposit)\n							\n								\n								Camp Adrenaline Future Heroes Week (7/13-7/17) +(35.00 Deposit)\n							\n								\n								Camp Adrenaline Oh Crickey: Reptile Explorers Week (7/20-7/24) +(35.00 Deposit)\n							\n								\n								Camp Adrenaline Ultimate Games (7/27-7/31) +(35.00 Deposit)\n							\n								\n								Camp Adrenaline Marine Biologist Week (8/3-8/7) +(35.00 Deposit)\n							Please select your camp time(Required)\n			\n					\n					Half Day (8:30 a.m. - 11:30 a.m.)\n			\n			\n					\n					Full Day (8:30 a.m. - 3:30 p.m.\n			\n			\n					\n					Extended Day (8:30 a.m. - 6:00 p.m.)\n			Total\n							\n						Credit Card(Required)\n					\n						Cardholder Name\n					\n					\n						Card Details\n					\n				\n          \n            \n            \n            \n            \n            \n            \n            \n            \n            \n            \n            \n            \n            \n        \n                        \n                        \n		                \n		                \n\n 
URL:https://360sportscentre.com/event/camp-adrenaline-future-heroes-week/
CATEGORIES:Camp Adrenaline
ATTACH;FMTTYPE=image/png:https://360sportscentre.com/wp-content/uploads/2026/02/TGXbIs1A2.png
END:VEVENT
BEGIN:VEVENT
DTSTART;TZID=UTC:20260720T083000
DTEND;TZID=UTC:20260724T180000
DTSTAMP:20260423T043530
CREATED:20260217T124917Z
LAST-MODIFIED:20260224T054833Z
UID:10000077-1784536200-1784916000@360sportscentre.com
SUMMARY:Camp Adrenaline Oh Crickey: Reptile Explorers Week
DESCRIPTION:Camp Adrenaline is a high-energy\, action-packed summer camp designed for kids who love to climb\, jump\, run\, and conquer challenges. Each day includes coach-led parkour training\, obstacle courses\, ninja-style challenges\, NERF missions\, games\, and structured movement stations in a safe\, motivating environment.\nCampers are grouped by age and ability and guided by experienced coaches who focus on strength\, coordination\, confidence\, and teamwork through hands-on movement and problem-solving. Camp Adrenaline blends athletic training with exciting challenges so kids stay engaged\, active\, and eager to come back each day.\nParents love Camp Adrenaline for its structure\, safety\, and positive coaching. Kids love it for the action\, competition\, teamwork\, and feeling strong\, capable\, and accomplished.\nA wild adventure packed with reptile-themed challenges\, hands-on projects\, obstacle courses and NERF battles. The highlight is a live animal experience with real reptiles\, giving campers an unforgettable up-close encounter. \nChoose Your Camp Option: \n\nHalf Day: 8:30 AM – 11:30 AM\nFull Day: 8:30 AM – 3:30 PM\nExtended Day: 8:30 AM – 6:00 PM\n\nCost: $35 non-refundable deposit due at Registration\, Remaining balance due 2 weeks prior to start date. \n\nHalf Day: $150\nFull Day: $265\nExtended Day: $350\n\nRegister Below!\n\n\n                \n                        Parent/Guardian Name(Required)\n                            \n                            \n                                                    \n                                                    First\n                                                \n                            \n                            \n                                                    \n                                                    Last\n                                                \n                            \n                        Email(Required)\n                            \n                        Phone(Required)Athlete's Name(Required)\n                            \n                            \n                                                    \n                                                    First\n                                                \n                            \n                            \n                                                    \n                                                    Last\n                                                \n                            \n                        Athlete's Date Of Birth(Required)\n                            \n                            MM slash DD slash YYYY\n                        \n                        Product NameSelect what Summer Camp(s) you'd like to register for(Required)\n								\n								Camp Adrenaline Creative Studio Week (6/1-6/5) +(35.00 Deposit)\n							\n								\n								Camp Adrenaline Beat the Challenge (6/8-6/12) +(35.00 Deposit)\n							\n								\n								Camp Adrenaline Mad Scientists Lab (6/15-6/19) +(35.00 Deposit)\n							\n								\n								Camp Adrenaline Summer Splash Week (6/22-6/26) +(35.00 Deposit)\n							\n								\n								Camp Adrenaline Mini Chefs Week (6/29-7/2) +(35.00 Deposit)\n							\n								\n								Camp Adrenaline Christmas In July (7/7-7/10) +(35.00 Deposit)\n							\n								\n								Camp Adrenaline Future Heroes Week (7/13-7/17) +(35.00 Deposit)\n							\n								\n								Camp Adrenaline Oh Crickey: Reptile Explorers Week (7/20-7/24) +(35.00 Deposit)\n							\n								\n								Camp Adrenaline Ultimate Games (7/27-7/31) +(35.00 Deposit)\n							\n								\n								Camp Adrenaline Marine Biologist Week (8/3-8/7) +(35.00 Deposit)\n							Please select your camp time(Required)\n			\n					\n					Half Day (8:30 a.m. - 11:30 a.m.)\n			\n			\n					\n					Full Day (8:30 a.m. - 3:30 p.m.\n			\n			\n					\n					Extended Day (8:30 a.m. - 6:00 p.m.)\n			Total\n							\n						Credit Card(Required)\n					\n						Cardholder Name\n					\n					\n						Card Details
URL:https://360sportscentre.com/event/camp-adrenaline-oh-crickey-reptile-explorers-week/
CATEGORIES:Camp Adrenaline
ATTACH;FMTTYPE=image/png:https://360sportscentre.com/wp-content/uploads/2026/02/y24nnVgR2.png
END:VEVENT
BEGIN:VEVENT
DTSTART;TZID=UTC:20260727T083000
DTEND;TZID=UTC:20260731T180000
DTSTAMP:20260423T043530
CREATED:20260217T125636Z
LAST-MODIFIED:20260224T054741Z
UID:10000094-1785141000-1785520800@360sportscentre.com
SUMMARY:Camp Adrenaline Ultimate Games
DESCRIPTION:Camp Adrenaline is a high-energy\, action-packed summer camp designed for kids who love to climb\, jump\, run\, and conquer challenges. Each day includes coach-led parkour training\, obstacle courses\, ninja-style challenges\, NERF missions\, games\, and structured movement stations in a safe\, motivating environment.\nCampers are grouped by age and ability and guided by experienced coaches who focus on strength\, coordination\, confidence\, and teamwork through hands-on movement and problem-solving. Camp Adrenaline blends athletic training with exciting challenges so kids stay engaged\, active\, and eager to come back each day.\nParents love Camp Adrenaline for its structure\, safety\, and positive coaching. Kids love it for the action\, competition\, teamwork\, and feeling strong\, capable\, and accomplished.\nA competitive\, high-energy week filled with obstacle courses\, team challenges\, relays\, and strategy-based games. Campers earn points for effort\, teamwork\, and sportsmanship and finish with a medal ceremony and celebration. \nChoose Your Camp Option: \n\nHalf Day: 8:30 AM – 11:30 AM\nFull Day: 8:30 AM – 3:30 PM\nExtended Day: 8:30 AM – 6:00 PM\n\nCost: $35 non-refundable deposit due at Registration\, Remaining balance due 2 weeks prior to start date. \n\nHalf Day: $150\nFull Day: $265\nExtended Day: $350\n\nRegister Below!\n\n\n                \n                        Parent/Guardian Name(Required)\n                            \n                            \n                                                    \n                                                    First\n                                                \n                            \n                            \n                                                    \n                                                    Last\n                                                \n                            \n                        Email(Required)\n                            \n                        Phone(Required)Athlete's Name(Required)\n                            \n                            \n                                                    \n                                                    First\n                                                \n                            \n                            \n                                                    \n                                                    Last\n                                                \n                            \n                        Athlete's Date Of Birth(Required)\n                            \n                            MM slash DD slash YYYY\n                        \n                        Product NameSelect what Summer Camp(s) you'd like to register for(Required)\n								\n								Camp Adrenaline Creative Studio Week (6/1-6/5) +(35.00 Deposit)\n							\n								\n								Camp Adrenaline Beat the Challenge (6/8-6/12) +(35.00 Deposit)\n							\n								\n								Camp Adrenaline Mad Scientists Lab (6/15-6/19) +(35.00 Deposit)\n							\n								\n								Camp Adrenaline Summer Splash Week (6/22-6/26) +(35.00 Deposit)\n							\n								\n								Camp Adrenaline Mini Chefs Week (6/29-7/2) +(35.00 Deposit)\n							\n								\n								Camp Adrenaline Christmas In July (7/7-7/10) +(35.00 Deposit)\n							\n								\n								Camp Adrenaline Future Heroes Week (7/13-7/17) +(35.00 Deposit)\n							\n								\n								Camp Adrenaline Oh Crickey: Reptile Explorers Week (7/20-7/24) +(35.00 Deposit)\n							\n								\n								Camp Adrenaline Ultimate Games (7/27-7/31) +(35.00 Deposit)\n							\n								\n								Camp Adrenaline Marine Biologist Week (8/3-8/7) +(35.00 Deposit)\n							Please select your camp time(Required)\n			\n					\n					Half Day (8:30 a.m. - 11:30 a.m.)\n			\n			\n					\n					Full Day (8:30 a.m. - 3:30 p.m.\n			\n			\n					\n					Extended Day (8:30 a.m. - 6:00 p.m.)\n			Total\n							\n						Credit Card(Required)\n					\n						Cardholder Name\n					\n					\n						Card Details\n					\n				\n          \n            \n            \n            \n            \n            \n            \n            \n            \n            \n            \n            \n            \n            \n        \n                        \n                        \n		                \n		                \n\n 
URL:https://360sportscentre.com/event/camp-adrenaline-ultimate-games/
CATEGORIES:Camp Adrenaline
ATTACH;FMTTYPE=image/png:https://360sportscentre.com/wp-content/uploads/2026/02/pzDQrQTt2.png
END:VEVENT
END:VCALENDAR