BEGIN:VCALENDAR
VERSION:2.0
PRODID:-//360 Sports Centre - ECPv6.15.18//NONSGML v1.0//EN
CALSCALE:GREGORIAN
METHOD:PUBLISH
X-WR-CALNAME:360 Sports Centre
X-ORIGINAL-URL:https://360sportscentre.com
X-WR-CALDESC:Events for 360 Sports Centre
REFRESH-INTERVAL;VALUE=DURATION:PT1H
X-Robots-Tag:noindex
X-PUBLISHED-TTL:PT1H
BEGIN:VTIMEZONE
TZID:UTC
BEGIN:STANDARD
TZOFFSETFROM:+0000
TZOFFSETTO:+0000
TZNAME:UTC
DTSTART:20250101T000000
END:STANDARD
END:VTIMEZONE
BEGIN:VEVENT
DTSTART;TZID=UTC:20260601T083000
DTEND;TZID=UTC:20260605T180000
DTSTAMP:20260423T043304
CREATED:20260217T114501Z
LAST-MODIFIED:20260224T061134Z
UID:10000099-1780302600-1780682400@360sportscentre.com
SUMMARY:Camp Adrenaline Creative Studio Week
DESCRIPTION:Camp Adrenaline is a high-energy\, action-packed summer camp designed for kids who love to climb\, jump\, run\, and conquer challenges. Each day includes coach-led parkour training\, obstacle courses\, ninja-style challenges\, NERF missions\, games\, and structured movement stations in a safe\, motivating environment.\nCampers are grouped by age and ability and guided by experienced coaches who focus on strength\, coordination\, confidence\, and teamwork through hands-on movement and problem-solving. Camp Adrenaline blends athletic training with exciting challenges so kids stay engaged\, active\, and eager to come back each day.\nParents love Camp Adrenaline for its structure\, safety\, and positive coaching. Kids love it for the action\, competition\, teamwork\, and feeling strong\, capable\, and accomplished. \nChoose Your Camp Option: \n\nHalf Day: 8:30 AM – 11:30 AM\nFull Day: 8:30 AM – 3:30 PM\nExtended Day: 8:30 AM – 6:00 PM\n\nCost: $35 non-refundable deposit due at Registration\, Remaining balance due 2 weeks prior to start date. \n\nHalf Day: $150\nFull Day: $265\nExtended Day: $350\n\nRegister Below!\n\n\n\n                \n                        Parent/Guardian Name(Required)\n                            \n                            \n                                                    \n                                                    First\n                                                \n                            \n                            \n                                                    \n                                                    Last\n                                                \n                            \n                        Email(Required)\n                            \n                        Phone(Required)Athlete's Name(Required)\n                            \n                            \n                                                    \n                                                    First\n                                                \n                            \n                            \n                                                    \n                                                    Last\n                                                \n                            \n                        Athlete's Date Of Birth(Required)\n                            \n                            MM slash DD slash YYYY\n                        \n                        Product NameSelect what Summer Camp(s) you'd like to register for(Required)\n								\n								Camp Adrenaline Creative Studio Week (6/1-6/5) +(35.00 Deposit)\n							\n								\n								Camp Adrenaline Beat the Challenge (6/8-6/12) +(35.00 Deposit)\n							\n								\n								Camp Adrenaline Mad Scientists Lab (6/15-6/19) +(35.00 Deposit)\n							\n								\n								Camp Adrenaline Summer Splash Week (6/22-6/26) +(35.00 Deposit)\n							\n								\n								Camp Adrenaline Mini Chefs Week (6/29-7/2) +(35.00 Deposit)\n							\n								\n								Camp Adrenaline Christmas In July (7/7-7/10) +(35.00 Deposit)\n							\n								\n								Camp Adrenaline Future Heroes Week (7/13-7/17) +(35.00 Deposit)\n							\n								\n								Camp Adrenaline Oh Crickey: Reptile Explorers Week (7/20-7/24) +(35.00 Deposit)\n							\n								\n								Camp Adrenaline Ultimate Games (7/27-7/31) +(35.00 Deposit)\n							\n								\n								Camp Adrenaline Marine Biologist Week (8/3-8/7) +(35.00 Deposit)\n							Please select your camp time(Required)\n			\n					\n					Half Day (8:30 a.m. - 11:30 a.m.)\n			\n			\n					\n					Full Day (8:30 a.m. - 3:30 p.m.\n			\n			\n					\n					Extended Day (8:30 a.m. - 6:00 p.m.)\n			Total\n							\n						Credit Card(Required)\n					\n						Cardholder Name\n					\n					\n						Card Details\n					\n				\n          \n            \n            \n            \n            \n            \n            \n            \n            \n            \n            \n            \n            \n            \n        \n                        \n                        \n		                \n		                \n\n 
URL:https://360sportscentre.com/event/camp-adrenaline-creative-studio-week/
CATEGORIES:Camp Adrenaline
ATTACH;FMTTYPE=image/png:https://360sportscentre.com/wp-content/uploads/2026/02/CeUy6eWf-11.png
END:VEVENT
BEGIN:VEVENT
DTSTART;TZID=UTC:20260608T083000
DTEND;TZID=UTC:20260612T180000
DTSTAMP:20260423T043304
CREATED:20260217T115744Z
LAST-MODIFIED:20260224T061047Z
UID:10000096-1780907400-1781287200@360sportscentre.com
SUMMARY:Camp Adrenaline Beat the Challenge
DESCRIPTION:Camp Adrenaline is a high-energy\, action-packed summer camp designed for kids who love to climb\, jump\, run\, and conquer challenges. Each day includes coach-led parkour training\, obstacle courses\, ninja-style challenges\, NERF missions\, games\, and structured movement stations in a safe\, motivating environment.\nCampers are grouped by age and ability and guided by experienced coaches who focus on strength\, coordination\, confidence\, and teamwork through hands-on movement and problem-solving. Camp Adrenaline blends athletic training with exciting challenges so kids stay engaged\, active\, and eager to come back each day.\nParents love Camp Adrenaline for its structure\, safety\, and positive coaching. Kids love it for the action\, competition\, teamwork\, and feeling strong\, capable\, and accomplished.\nA fast-paced week of rhythm-based challenges\, reaction games\, and movement competitions. Campers test timing\, speed\, coordination\, and agility while competing in fun\, high-energy challenges with friends. \nChoose Your Camp Option: \n\nHalf Day: 8:30 AM – 11:30 AM\nFull Day: 8:30 AM – 3:30 PM\nExtended Day: 8:30 AM – 6:00 PM\n\nCost: $35 non-refundable deposit due at Registration\, Remaining balance due 2 weeks prior to start date. \n\nHalf Day: $150\nFull Day: $265\nExtended Day: $350\n\nRegister Below!\n\n\n                \n                        Parent/Guardian Name(Required)\n                            \n                            \n                                                    \n                                                    First\n                                                \n                            \n                            \n                                                    \n                                                    Last\n                                                \n                            \n                        Email(Required)\n                            \n                        Phone(Required)Athlete's Name(Required)\n                            \n                            \n                                                    \n                                                    First\n                                                \n                            \n                            \n                                                    \n                                                    Last\n                                                \n                            \n                        Athlete's Date Of Birth(Required)\n                            \n                            MM slash DD slash YYYY\n                        \n                        Product NameSelect what Summer Camp(s) you'd like to register for(Required)\n								\n								Camp Adrenaline Creative Studio Week (6/1-6/5) +(35.00 Deposit)\n							\n								\n								Camp Adrenaline Beat the Challenge (6/8-6/12) +(35.00 Deposit)\n							\n								\n								Camp Adrenaline Mad Scientists Lab (6/15-6/19) +(35.00 Deposit)\n							\n								\n								Camp Adrenaline Summer Splash Week (6/22-6/26) +(35.00 Deposit)\n							\n								\n								Camp Adrenaline Mini Chefs Week (6/29-7/2) +(35.00 Deposit)\n							\n								\n								Camp Adrenaline Christmas In July (7/7-7/10) +(35.00 Deposit)\n							\n								\n								Camp Adrenaline Future Heroes Week (7/13-7/17) +(35.00 Deposit)\n							\n								\n								Camp Adrenaline Oh Crickey: Reptile Explorers Week (7/20-7/24) +(35.00 Deposit)\n							\n								\n								Camp Adrenaline Ultimate Games (7/27-7/31) +(35.00 Deposit)\n							\n								\n								Camp Adrenaline Marine Biologist Week (8/3-8/7) +(35.00 Deposit)\n							Please select your camp time(Required)\n			\n					\n					Half Day (8:30 a.m. - 11:30 a.m.)\n			\n			\n					\n					Full Day (8:30 a.m. - 3:30 p.m.\n			\n			\n					\n					Extended Day (8:30 a.m. - 6:00 p.m.)\n			Total\n							\n						Credit Card(Required)\n					\n						Cardholder Name\n					\n					\n						Card Details\n					\n				\n          \n            \n            \n            \n            \n            \n            \n            \n            \n            \n            \n            \n            \n            \n        \n                        \n                        \n		                \n		                \n\n 
URL:https://360sportscentre.com/event/camp-adrenaline-beat-the-challenge/
CATEGORIES:Camp Adrenaline
ATTACH;FMTTYPE=image/png:https://360sportscentre.com/wp-content/uploads/2026/02/J2QLAKWR2.png
END:VEVENT
BEGIN:VEVENT
DTSTART;TZID=UTC:20260615T083000
DTEND;TZID=UTC:20260619T180000
DTSTAMP:20260423T043304
CREATED:20260217T120837Z
LAST-MODIFIED:20260224T055432Z
UID:10000092-1781512200-1781892000@360sportscentre.com
SUMMARY:Camp Adrenaline Mad Scientists Lab
DESCRIPTION:Camp Adrenaline is a high-energy\, action-packed summer camp designed for kids who love to climb\, jump\, run\, and conquer challenges. Each day includes coach-led parkour training\, obstacle courses\, ninja-style challenges\, NERF missions\, games\, and structured movement stations in a safe\, motivating environment.\nCampers are grouped by age and ability and guided by experienced coaches who focus on strength\, coordination\, confidence\, and teamwork through hands-on movement and problem-solving. Camp Adrenaline blends athletic training with exciting challenges so kids stay engaged\, active\, and eager to come back each day.\nParents love Camp Adrenaline for its structure\, safety\, and positive coaching. Kids love it for the action\, competition\, teamwork\, and feeling strong\, capable\, and accomplished.\nA build-it\, test-it\, and try-it week packed with hands-on experiments\, problem-solving challenges\, and movement-based science activities. Campers create\, experiment\, and compete in fun ways that keep brains and bodies moving. \nChoose Your Camp Option: \n\nHalf Day: 8:30 AM – 11:30 AM\nFull Day: 8:30 AM – 3:30 PM\nExtended Day: 8:30 AM – 6:00 PM\n\nCost: $35 non-refundable deposit due at Registration\, Remaining balance due 2 weeks prior to start date. \n\nHalf Day: $150\nFull Day: $265\nExtended Day: $350\n\nRegister Below!\n\n\n                \n                        Parent/Guardian Name(Required)\n                            \n                            \n                                                    \n                                                    First\n                                                \n                            \n                            \n                                                    \n                                                    Last\n                                                \n                            \n                        Email(Required)\n                            \n                        Phone(Required)Athlete's Name(Required)\n                            \n                            \n                                                    \n                                                    First\n                                                \n                            \n                            \n                                                    \n                                                    Last\n                                                \n                            \n                        Athlete's Date Of Birth(Required)\n                            \n                            MM slash DD slash YYYY\n                        \n                        Product NameSelect what Summer Camp(s) you'd like to register for(Required)\n								\n								Camp Adrenaline Creative Studio Week (6/1-6/5) +(35.00 Deposit)\n							\n								\n								Camp Adrenaline Beat the Challenge (6/8-6/12) +(35.00 Deposit)\n							\n								\n								Camp Adrenaline Mad Scientists Lab (6/15-6/19) +(35.00 Deposit)\n							\n								\n								Camp Adrenaline Summer Splash Week (6/22-6/26) +(35.00 Deposit)\n							\n								\n								Camp Adrenaline Mini Chefs Week (6/29-7/2) +(35.00 Deposit)\n							\n								\n								Camp Adrenaline Christmas In July (7/7-7/10) +(35.00 Deposit)\n							\n								\n								Camp Adrenaline Future Heroes Week (7/13-7/17) +(35.00 Deposit)\n							\n								\n								Camp Adrenaline Oh Crickey: Reptile Explorers Week (7/20-7/24) +(35.00 Deposit)\n							\n								\n								Camp Adrenaline Ultimate Games (7/27-7/31) +(35.00 Deposit)\n							\n								\n								Camp Adrenaline Marine Biologist Week (8/3-8/7) +(35.00 Deposit)\n							Please select your camp time(Required)\n			\n					\n					Half Day (8:30 a.m. - 11:30 a.m.)\n			\n			\n					\n					Full Day (8:30 a.m. - 3:30 p.m.\n			\n			\n					\n					Extended Day (8:30 a.m. - 6:00 p.m.)\n			Total\n							\n						Credit Card(Required)\n					\n						Cardholder Name\n					\n					\n						Card Details\n					\n				\n          \n            \n            \n            \n            \n            \n            \n            \n            \n            \n            \n            \n            \n            \n        \n                        \n                        \n		                \n		                \n\n 
URL:https://360sportscentre.com/event/camp-adrenaline-mad-scientists-lab/
CATEGORIES:Camp Adrenaline
ATTACH;FMTTYPE=image/png:https://360sportscentre.com/wp-content/uploads/2026/02/qwX6t5xv2.png
END:VEVENT
BEGIN:VEVENT
DTSTART;TZID=UTC:20260622T083000
DTEND;TZID=UTC:20260626T180000
DTSTAMP:20260423T043304
CREATED:20260217T121706Z
LAST-MODIFIED:20260224T055203Z
UID:10000089-1782117000-1782496800@360sportscentre.com
SUMMARY:Camp Adrenaline Summer Splash Week
DESCRIPTION:Camp Adrenaline is a high-energy\, action-packed summer camp designed for kids who love to climb\, jump\, run\, and conquer challenges. Each day includes coach-led parkour training\, obstacle courses\, ninja-style challenges\, NERF missions\, games\, and structured movement stations in a safe\, motivating environment.\nCampers are grouped by age and ability and guided by experienced coaches who focus on strength\, coordination\, confidence\, and teamwork through hands-on movement and problem-solving. Camp Adrenaline blends athletic training with exciting challenges so kids stay engaged\, active\, and eager to come back each day.\nParents love Camp Adrenaline for its structure\, safety\, and positive coaching. Kids love it for the action\, competition\, teamwork\, and feeling strong\, capable\, and accomplished.\nA high-energy summer week filled with water challenges\, splash games\, and obstacle-style competitions. The week ends with an epic water day featuring water games and a giant slide for the ultimate summer send-off. \nChoose Your Camp Option: \n\nHalf Day: 8:30 AM – 11:30 AM\nFull Day: 8:30 AM – 3:30 PM\nExtended Day: 8:30 AM – 6:00 PM\n\nCost: $35 non-refundable deposit due at Registration\, Remaining balance due 2 weeks prior to start date. \n\nHalf Day: $150\nFull Day: $265\nExtended Day: $350\n\nRegister Below!\n\n\n                \n                        Parent/Guardian Name(Required)\n                            \n                            \n                                                    \n                                                    First\n                                                \n                            \n                            \n                                                    \n                                                    Last\n                                                \n                            \n                        Email(Required)\n                            \n                        Phone(Required)Athlete's Name(Required)\n                            \n                            \n                                                    \n                                                    First\n                                                \n                            \n                            \n                                                    \n                                                    Last\n                                                \n                            \n                        Athlete's Date Of Birth(Required)\n                            \n                            MM slash DD slash YYYY\n                        \n                        Product NameSelect what Summer Camp(s) you'd like to register for(Required)\n								\n								Camp Adrenaline Creative Studio Week (6/1-6/5) +(35.00 Deposit)\n							\n								\n								Camp Adrenaline Beat the Challenge (6/8-6/12) +(35.00 Deposit)\n							\n								\n								Camp Adrenaline Mad Scientists Lab (6/15-6/19) +(35.00 Deposit)\n							\n								\n								Camp Adrenaline Summer Splash Week (6/22-6/26) +(35.00 Deposit)\n							\n								\n								Camp Adrenaline Mini Chefs Week (6/29-7/2) +(35.00 Deposit)\n							\n								\n								Camp Adrenaline Christmas In July (7/7-7/10) +(35.00 Deposit)\n							\n								\n								Camp Adrenaline Future Heroes Week (7/13-7/17) +(35.00 Deposit)\n							\n								\n								Camp Adrenaline Oh Crickey: Reptile Explorers Week (7/20-7/24) +(35.00 Deposit)\n							\n								\n								Camp Adrenaline Ultimate Games (7/27-7/31) +(35.00 Deposit)\n							\n								\n								Camp Adrenaline Marine Biologist Week (8/3-8/7) +(35.00 Deposit)\n							Please select your camp time(Required)\n			\n					\n					Half Day (8:30 a.m. - 11:30 a.m.)\n			\n			\n					\n					Full Day (8:30 a.m. - 3:30 p.m.\n			\n			\n					\n					Extended Day (8:30 a.m. - 6:00 p.m.)\n			Total\n							\n						Credit Card(Required)\n					\n						Cardholder Name\n					\n					\n						Card Details
URL:https://360sportscentre.com/event/camp-adrenaline-summer-splash-week/
CATEGORIES:Camp Adrenaline
ATTACH;FMTTYPE=image/png:https://360sportscentre.com/wp-content/uploads/2026/02/nk2t2-9G2.png
END:VEVENT
BEGIN:VEVENT
DTSTART;TZID=UTC:20260629T083000
DTEND;TZID=UTC:20260702T180000
DTSTAMP:20260423T043304
CREATED:20260217T122459Z
LAST-MODIFIED:20260224T055103Z
UID:10000086-1782721800-1783015200@360sportscentre.com
SUMMARY:Camp Adrenaline Mini Chefs Week
DESCRIPTION:Camp Adrenaline is a high-energy\, action-packed summer camp designed for kids who love to climb\, jump\, run\, and conquer challenges. Each day includes coach-led parkour training\, obstacle courses\, ninja-style challenges\, NERF missions\, games\, and structured movement stations in a safe\, motivating environment.\nCampers are grouped by age and ability and guided by experienced coaches who focus on strength\, coordination\, confidence\, and teamwork through hands-on movement and problem-solving. Camp Adrenaline blends athletic training with exciting challenges so kids stay engaged\, active\, and eager to come back each day.\nParents love Camp Adrenaline for its structure\, safety\, and positive coaching. Kids love it for the action\, competition\, teamwork\, and feeling strong\, capable\, and accomplished.\nA hands-on cooking week focused on building\, mixing\, and creating simple\, allergy-friendly recipes. Campers learn basic kitchen skills while treating cooking like a fun challenge and creative mission. \nChoose Your Camp Option: \n\nHalf Day: 8:30 AM – 11:30 AM\nFull Day: 8:30 AM – 3:30 PM\nExtended Day: 8:30 AM – 6:00 PM\n\nCost: $35 non-refundable deposit due at Registration\, Remaining balance due 2 weeks prior to start date. \n\nHalf Day: $150\nFull Day: $265\nExtended Day: $350\n\nRegister Below!\n\n\n                \n                        Parent/Guardian Name(Required)\n                            \n                            \n                                                    \n                                                    First\n                                                \n                            \n                            \n                                                    \n                                                    Last\n                                                \n                            \n                        Email(Required)\n                            \n                        Phone(Required)Athlete's Name(Required)\n                            \n                            \n                                                    \n                                                    First\n                                                \n                            \n                            \n                                                    \n                                                    Last\n                                                \n                            \n                        Athlete's Date Of Birth(Required)\n                            \n                            MM slash DD slash YYYY\n                        \n                        Product NameSelect what Summer Camp(s) you'd like to register for(Required)\n								\n								Camp Adrenaline Creative Studio Week (6/1-6/5) +(35.00 Deposit)\n							\n								\n								Camp Adrenaline Beat the Challenge (6/8-6/12) +(35.00 Deposit)\n							\n								\n								Camp Adrenaline Mad Scientists Lab (6/15-6/19) +(35.00 Deposit)\n							\n								\n								Camp Adrenaline Summer Splash Week (6/22-6/26) +(35.00 Deposit)\n							\n								\n								Camp Adrenaline Mini Chefs Week (6/29-7/2) +(35.00 Deposit)\n							\n								\n								Camp Adrenaline Christmas In July (7/7-7/10) +(35.00 Deposit)\n							\n								\n								Camp Adrenaline Future Heroes Week (7/13-7/17) +(35.00 Deposit)\n							\n								\n								Camp Adrenaline Oh Crickey: Reptile Explorers Week (7/20-7/24) +(35.00 Deposit)\n							\n								\n								Camp Adrenaline Ultimate Games (7/27-7/31) +(35.00 Deposit)\n							\n								\n								Camp Adrenaline Marine Biologist Week (8/3-8/7) +(35.00 Deposit)\n							Please select your camp time(Required)\n			\n					\n					Half Day (8:30 a.m. - 11:30 a.m.)\n			\n			\n					\n					Full Day (8:30 a.m. - 3:30 p.m.\n			\n			\n					\n					Extended Day (8:30 a.m. - 6:00 p.m.)\n			Total\n							\n						Credit Card(Required)\n					\n						Cardholder Name\n					\n					\n						Card Details\n					\n				\n          \n            \n            \n            \n            \n            \n            \n            \n            \n            \n            \n            \n            \n            \n        \n                        \n                        \n		                \n		                \n\n 
URL:https://360sportscentre.com/event/camp-adrenaline-mini-chefs-week/
CATEGORIES:Camp Adrenaline
ATTACH;FMTTYPE=image/png:https://360sportscentre.com/wp-content/uploads/2026/02/1fBKpqF22.png
END:VEVENT
END:VCALENDAR